BEGIN:VCALENDAR
VERSION:2.0
PRODID:-//Special Olympics of Wisconsin – Ozaukee County - ECPv6.15.12.2//NONSGML v1.0//EN
CALSCALE:GREGORIAN
METHOD:PUBLISH
X-ORIGINAL-URL:https://ozcoso.org
X-WR-CALDESC:Events for Special Olympics of Wisconsin – Ozaukee County
REFRESH-INTERVAL;VALUE=DURATION:PT1H
X-Robots-Tag:noindex
X-PUBLISHED-TTL:PT1H
BEGIN:VTIMEZONE
TZID:America/Chicago
BEGIN:DAYLIGHT
TZOFFSETFROM:-0600
TZOFFSETTO:-0500
TZNAME:CDT
DTSTART:20240310T080000
END:DAYLIGHT
BEGIN:STANDARD
TZOFFSETFROM:-0500
TZOFFSETTO:-0600
TZNAME:CST
DTSTART:20241103T070000
END:STANDARD
BEGIN:DAYLIGHT
TZOFFSETFROM:-0600
TZOFFSETTO:-0500
TZNAME:CDT
DTSTART:20250309T080000
END:DAYLIGHT
BEGIN:STANDARD
TZOFFSETFROM:-0500
TZOFFSETTO:-0600
TZNAME:CST
DTSTART:20251102T070000
END:STANDARD
BEGIN:DAYLIGHT
TZOFFSETFROM:-0600
TZOFFSETTO:-0500
TZNAME:CDT
DTSTART:20260308T080000
END:DAYLIGHT
BEGIN:STANDARD
TZOFFSETFROM:-0500
TZOFFSETTO:-0600
TZNAME:CST
DTSTART:20261101T070000
END:STANDARD
BEGIN:DAYLIGHT
TZOFFSETFROM:-0600
TZOFFSETTO:-0500
TZNAME:CDT
DTSTART:20270314T080000
END:DAYLIGHT
BEGIN:STANDARD
TZOFFSETFROM:-0500
TZOFFSETTO:-0600
TZNAME:CST
DTSTART:20271107T070000
END:STANDARD
END:VTIMEZONE
BEGIN:VEVENT
DTSTART;TZID=America/Chicago:20260416T180000
DTEND;TZID=America/Chicago:20260416T193000
DTSTAMP:20260419T064045
CREATED:20260119T201213Z
LAST-MODIFIED:20260329T183441Z
UID:10002245-1776362400-1776367800@ozcoso.org
SUMMARY:Cornhole Practice Participant Only AND Competitive
DESCRIPTION:Head coach:  RJ Bottalla \nOther inquiries:  Tammy Natale \nDistrict Competition will be on May 2nd for COMPETITORS ONLY in Oregon\, WI \nState Competition is for qualifying teams at the Summer Games at UW Whitewater June 4-6. \nMore information to follow. \nAthletes CANNOT compete in Track AND Cornhole.  Athletes CAN COMPETE in Cornhole AND/OR Powerlifting. \nParticipant only will practice only until the end of April.
URL:https://ozcoso.org/event/cornhole-practice-2/2026-04-16/
LOCATION:Gateway Sports Academy\, 555 Market St.\, Saukville\, WI\, 53080\, United States
END:VEVENT
BEGIN:VEVENT
DTSTART;TZID=America/Chicago:20260409T180000
DTEND;TZID=America/Chicago:20260409T193000
DTSTAMP:20260419T064045
CREATED:20260119T201213Z
LAST-MODIFIED:20260329T183441Z
UID:10002244-1775757600-1775763000@ozcoso.org
SUMMARY:Cornhole Practice Participant Only AND Competitive
DESCRIPTION:Head coach:  RJ Bottalla \nOther inquiries:  Tammy Natale \nDistrict Competition will be on May 2nd for COMPETITORS ONLY in Oregon\, WI \nState Competition is for qualifying teams at the Summer Games at UW Whitewater June 4-6. \nMore information to follow. \nAthletes CANNOT compete in Track AND Cornhole.  Athletes CAN COMPETE in Cornhole AND/OR Powerlifting. \nParticipant only will practice only until the end of April.
URL:https://ozcoso.org/event/cornhole-practice-2/2026-04-09/
LOCATION:Gateway Sports Academy\, 555 Market St.\, Saukville\, WI\, 53080\, United States
END:VEVENT
BEGIN:VEVENT
DTSTART;TZID=America/Chicago:20260402T180000
DTEND;TZID=America/Chicago:20260402T193000
DTSTAMP:20260419T064045
CREATED:20260119T201213Z
LAST-MODIFIED:20260329T183441Z
UID:10002243-1775152800-1775158200@ozcoso.org
SUMMARY:Cornhole Practice Participant Only AND Competitive
DESCRIPTION:Head coach:  RJ Bottalla \nOther inquiries:  Tammy Natale \nDistrict Competition will be on May 2nd for COMPETITORS ONLY in Oregon\, WI \nState Competition is for qualifying teams at the Summer Games at UW Whitewater June 4-6. \nMore information to follow. \nAthletes CANNOT compete in Track AND Cornhole.  Athletes CAN COMPETE in Cornhole AND/OR Powerlifting. \nParticipant only will practice only until the end of April.
URL:https://ozcoso.org/event/cornhole-practice-2/2026-04-02/
LOCATION:Gateway Sports Academy\, 555 Market St.\, Saukville\, WI\, 53080\, United States
END:VEVENT
BEGIN:VEVENT
DTSTART;TZID=America/Chicago:20260326T180000
DTEND;TZID=America/Chicago:20260326T193000
DTSTAMP:20260419T064045
CREATED:20260119T201213Z
LAST-MODIFIED:20260329T183441Z
UID:10002242-1774548000-1774553400@ozcoso.org
SUMMARY:Cornhole Practice Participant Only AND Competitive
DESCRIPTION:Head coach:  RJ Bottalla \nOther inquiries:  Tammy Natale \nDistrict Competition will be on May 2nd for COMPETITORS ONLY in Oregon\, WI \nState Competition is for qualifying teams at the Summer Games at UW Whitewater June 4-6. \nMore information to follow. \nAthletes CANNOT compete in Track AND Cornhole.  Athletes CAN COMPETE in Cornhole AND/OR Powerlifting. \nParticipant only will practice only until the end of April.
URL:https://ozcoso.org/event/cornhole-practice-2/2026-03-26/
LOCATION:Gateway Sports Academy\, 555 Market St.\, Saukville\, WI\, 53080\, United States
END:VEVENT
BEGIN:VEVENT
DTSTART;TZID=America/Chicago:20260319T180000
DTEND;TZID=America/Chicago:20260319T193000
DTSTAMP:20260419T064045
CREATED:20260119T201213Z
LAST-MODIFIED:20260329T183441Z
UID:10002241-1773943200-1773948600@ozcoso.org
SUMMARY:Cornhole Practice Participant Only AND Competitive
DESCRIPTION:Head coach:  RJ Bottalla \nOther inquiries:  Tammy Natale \nDistrict Competition will be on May 2nd for COMPETITORS ONLY in Oregon\, WI \nState Competition is for qualifying teams at the Summer Games at UW Whitewater June 4-6. \nMore information to follow. \nAthletes CANNOT compete in Track AND Cornhole.  Athletes CAN COMPETE in Cornhole AND/OR Powerlifting. \nParticipant only will practice only until the end of April.
URL:https://ozcoso.org/event/cornhole-practice-2/2026-03-19/
LOCATION:Gateway Sports Academy\, 555 Market St.\, Saukville\, WI\, 53080\, United States
END:VEVENT
BEGIN:VEVENT
DTSTART;TZID=America/Chicago:20260312T180000
DTEND;TZID=America/Chicago:20260312T193000
DTSTAMP:20260419T064045
CREATED:20260119T201213Z
LAST-MODIFIED:20260329T183441Z
UID:10002240-1773338400-1773343800@ozcoso.org
SUMMARY:Cornhole Practice Participant Only AND Competitive
DESCRIPTION:Head coach:  RJ Bottalla \nOther inquiries:  Tammy Natale \nDistrict Competition will be on May 2nd for COMPETITORS ONLY in Oregon\, WI \nState Competition is for qualifying teams at the Summer Games at UW Whitewater June 4-6. \nMore information to follow. \nAthletes CANNOT compete in Track AND Cornhole.  Athletes CAN COMPETE in Cornhole AND/OR Powerlifting. \nParticipant only will practice only until the end of April.
URL:https://ozcoso.org/event/cornhole-practice-2/2026-03-12/
LOCATION:Gateway Sports Academy\, 555 Market St.\, Saukville\, WI\, 53080\, United States
END:VEVENT
BEGIN:VEVENT
DTSTART;TZID=America/Chicago:20260310T183000
DTEND;TZID=America/Chicago:20260310T200000
DTSTAMP:20260419T064045
CREATED:20251111T204314Z
LAST-MODIFIED:20260309T003002Z
UID:10002567-1773167400-1773172800@ozcoso.org
SUMMARY:Falcons Basketball Practice
DESCRIPTION:For more information:  Coach Jason Tietz\njctietz@wi.rr.com\n262-389-6890 \nor Coach Stu Natale \n262-689-4060
URL:https://ozcoso.org/event/falcons-basketball-practice/2026-03-10/
LOCATION:Gateway Sports Academy\, 555 Market St.\, Saukville\, WI\, 53080\, United States
END:VEVENT
BEGIN:VEVENT
DTSTART;TZID=America/Chicago:20260303T184500
DTEND;TZID=America/Chicago:20260303T200000
DTSTAMP:20260419T064045
CREATED:20260105T145049Z
LAST-MODIFIED:20260105T145507Z
UID:10002183-1772563500-1772568000@ozcoso.org
SUMMARY:Participation Only Basketball
DESCRIPTION:Coach Zeki \ncoachzeki63@gmail.com
URL:https://ozcoso.org/event/participation-only-basketball/2026-03-03/
LOCATION:Gateway Sports Academy\, 555 Market St.\, Saukville\, WI\, 53080\, United States
END:VEVENT
BEGIN:VEVENT
DTSTART;TZID=America/Chicago:20260303T183000
DTEND;TZID=America/Chicago:20260303T200000
DTSTAMP:20260419T064045
CREATED:20251111T204314Z
LAST-MODIFIED:20260309T003002Z
UID:10002566-1772562600-1772568000@ozcoso.org
SUMMARY:Falcons Basketball Practice
DESCRIPTION:For more information:  Coach Jason Tietz\njctietz@wi.rr.com\n262-389-6890 \nor Coach Stu Natale \n262-689-4060
URL:https://ozcoso.org/event/falcons-basketball-practice/2026-03-03/
LOCATION:Gateway Sports Academy\, 555 Market St.\, Saukville\, WI\, 53080\, United States
END:VEVENT
BEGIN:VEVENT
DTSTART;TZID=America/Chicago:20260224T184500
DTEND;TZID=America/Chicago:20260224T200000
DTSTAMP:20260419T064045
CREATED:20260105T145049Z
LAST-MODIFIED:20260105T145507Z
UID:10002182-1771958700-1771963200@ozcoso.org
SUMMARY:Participation Only Basketball
DESCRIPTION:Coach Zeki \ncoachzeki63@gmail.com
URL:https://ozcoso.org/event/participation-only-basketball/2026-02-24/
LOCATION:Gateway Sports Academy\, 555 Market St.\, Saukville\, WI\, 53080\, United States
END:VEVENT
BEGIN:VEVENT
DTSTART;TZID=America/Chicago:20260224T183000
DTEND;TZID=America/Chicago:20260224T200000
DTSTAMP:20260419T064045
CREATED:20251111T204314Z
LAST-MODIFIED:20260309T003002Z
UID:10002565-1771957800-1771963200@ozcoso.org
SUMMARY:Falcons Basketball Practice
DESCRIPTION:For more information:  Coach Jason Tietz\njctietz@wi.rr.com\n262-389-6890 \nor Coach Stu Natale \n262-689-4060
URL:https://ozcoso.org/event/falcons-basketball-practice/2026-02-24/
LOCATION:Gateway Sports Academy\, 555 Market St.\, Saukville\, WI\, 53080\, United States
END:VEVENT
BEGIN:VEVENT
DTSTART;TZID=America/Chicago:20260217T184500
DTEND;TZID=America/Chicago:20260217T200000
DTSTAMP:20260419T064045
CREATED:20260105T145049Z
LAST-MODIFIED:20260105T145507Z
UID:10002181-1771353900-1771358400@ozcoso.org
SUMMARY:Participation Only Basketball
DESCRIPTION:Coach Zeki \ncoachzeki63@gmail.com
URL:https://ozcoso.org/event/participation-only-basketball/2026-02-17/
LOCATION:Gateway Sports Academy\, 555 Market St.\, Saukville\, WI\, 53080\, United States
END:VEVENT
BEGIN:VEVENT
DTSTART;TZID=America/Chicago:20260217T183000
DTEND;TZID=America/Chicago:20260217T200000
DTSTAMP:20260419T064045
CREATED:20251111T204314Z
LAST-MODIFIED:20260309T003002Z
UID:10002564-1771353000-1771358400@ozcoso.org
SUMMARY:Falcons Basketball Practice
DESCRIPTION:For more information:  Coach Jason Tietz\njctietz@wi.rr.com\n262-389-6890 \nor Coach Stu Natale \n262-689-4060
URL:https://ozcoso.org/event/falcons-basketball-practice/2026-02-17/
LOCATION:Gateway Sports Academy\, 555 Market St.\, Saukville\, WI\, 53080\, United States
END:VEVENT
BEGIN:VEVENT
DTSTART;TZID=America/Chicago:20260210T184500
DTEND;TZID=America/Chicago:20260210T200000
DTSTAMP:20260419T064045
CREATED:20260105T145049Z
LAST-MODIFIED:20260105T145507Z
UID:10002180-1770749100-1770753600@ozcoso.org
SUMMARY:Participation Only Basketball
DESCRIPTION:Coach Zeki \ncoachzeki63@gmail.com
URL:https://ozcoso.org/event/participation-only-basketball/2026-02-10/
LOCATION:Gateway Sports Academy\, 555 Market St.\, Saukville\, WI\, 53080\, United States
END:VEVENT
BEGIN:VEVENT
DTSTART;TZID=America/Chicago:20260210T183000
DTEND;TZID=America/Chicago:20260210T200000
DTSTAMP:20260419T064045
CREATED:20251111T204314Z
LAST-MODIFIED:20260309T003002Z
UID:10002563-1770748200-1770753600@ozcoso.org
SUMMARY:Falcons Basketball Practice
DESCRIPTION:For more information:  Coach Jason Tietz\njctietz@wi.rr.com\n262-389-6890 \nor Coach Stu Natale \n262-689-4060
URL:https://ozcoso.org/event/falcons-basketball-practice/2026-02-10/
LOCATION:Gateway Sports Academy\, 555 Market St.\, Saukville\, WI\, 53080\, United States
END:VEVENT
BEGIN:VEVENT
DTSTART;TZID=America/Chicago:20260203T184500
DTEND;TZID=America/Chicago:20260203T200000
DTSTAMP:20260419T064045
CREATED:20260105T145049Z
LAST-MODIFIED:20260105T145507Z
UID:10002179-1770144300-1770148800@ozcoso.org
SUMMARY:Participation Only Basketball
DESCRIPTION:Coach Zeki \ncoachzeki63@gmail.com
URL:https://ozcoso.org/event/participation-only-basketball/2026-02-03/
LOCATION:Gateway Sports Academy\, 555 Market St.\, Saukville\, WI\, 53080\, United States
END:VEVENT
BEGIN:VEVENT
DTSTART;TZID=America/Chicago:20260203T183000
DTEND;TZID=America/Chicago:20260203T200000
DTSTAMP:20260419T064045
CREATED:20251111T204314Z
LAST-MODIFIED:20260309T003002Z
UID:10002562-1770143400-1770148800@ozcoso.org
SUMMARY:Falcons Basketball Practice
DESCRIPTION:For more information:  Coach Jason Tietz\njctietz@wi.rr.com\n262-389-6890 \nor Coach Stu Natale \n262-689-4060
URL:https://ozcoso.org/event/falcons-basketball-practice/2026-02-03/
LOCATION:Gateway Sports Academy\, 555 Market St.\, Saukville\, WI\, 53080\, United States
END:VEVENT
BEGIN:VEVENT
DTSTART;TZID=America/Chicago:20260127T184500
DTEND;TZID=America/Chicago:20260127T200000
DTSTAMP:20260419T064045
CREATED:20260105T145049Z
LAST-MODIFIED:20260105T145507Z
UID:10002178-1769539500-1769544000@ozcoso.org
SUMMARY:Participation Only Basketball
DESCRIPTION:Coach Zeki \ncoachzeki63@gmail.com
URL:https://ozcoso.org/event/participation-only-basketball/2026-01-27/
LOCATION:Gateway Sports Academy\, 555 Market St.\, Saukville\, WI\, 53080\, United States
END:VEVENT
BEGIN:VEVENT
DTSTART;TZID=America/Chicago:20260127T183000
DTEND;TZID=America/Chicago:20260127T200000
DTSTAMP:20260419T064045
CREATED:20251111T204314Z
LAST-MODIFIED:20260309T003002Z
UID:10002561-1769538600-1769544000@ozcoso.org
SUMMARY:Falcons Basketball Practice
DESCRIPTION:For more information:  Coach Jason Tietz\njctietz@wi.rr.com\n262-389-6890 \nor Coach Stu Natale \n262-689-4060
URL:https://ozcoso.org/event/falcons-basketball-practice/2026-01-27/
LOCATION:Gateway Sports Academy\, 555 Market St.\, Saukville\, WI\, 53080\, United States
END:VEVENT
BEGIN:VEVENT
DTSTART;TZID=America/Chicago:20260120T184500
DTEND;TZID=America/Chicago:20260120T200000
DTSTAMP:20260419T064045
CREATED:20260105T145049Z
LAST-MODIFIED:20260105T145507Z
UID:10002177-1768934700-1768939200@ozcoso.org
SUMMARY:Participation Only Basketball
DESCRIPTION:Coach Zeki \ncoachzeki63@gmail.com
URL:https://ozcoso.org/event/participation-only-basketball/2026-01-20/
LOCATION:Gateway Sports Academy\, 555 Market St.\, Saukville\, WI\, 53080\, United States
END:VEVENT
BEGIN:VEVENT
DTSTART;TZID=America/Chicago:20260120T183000
DTEND;TZID=America/Chicago:20260120T200000
DTSTAMP:20260419T064045
CREATED:20251111T204314Z
LAST-MODIFIED:20260309T003002Z
UID:10002560-1768933800-1768939200@ozcoso.org
SUMMARY:Falcons Basketball Practice
DESCRIPTION:For more information:  Coach Jason Tietz\njctietz@wi.rr.com\n262-389-6890 \nor Coach Stu Natale \n262-689-4060
URL:https://ozcoso.org/event/falcons-basketball-practice/2026-01-20/
LOCATION:Gateway Sports Academy\, 555 Market St.\, Saukville\, WI\, 53080\, United States
END:VEVENT
BEGIN:VEVENT
DTSTART;TZID=America/Chicago:20260113T184500
DTEND;TZID=America/Chicago:20260113T200000
DTSTAMP:20260419T064045
CREATED:20260105T145049Z
LAST-MODIFIED:20260105T145507Z
UID:10002176-1768329900-1768334400@ozcoso.org
SUMMARY:Participation Only Basketball
DESCRIPTION:Coach Zeki \ncoachzeki63@gmail.com
URL:https://ozcoso.org/event/participation-only-basketball/2026-01-13/
LOCATION:Gateway Sports Academy\, 555 Market St.\, Saukville\, WI\, 53080\, United States
END:VEVENT
BEGIN:VEVENT
DTSTART;TZID=America/Chicago:20260113T183000
DTEND;TZID=America/Chicago:20260113T200000
DTSTAMP:20260419T064045
CREATED:20251111T204314Z
LAST-MODIFIED:20260309T003002Z
UID:10002559-1768329000-1768334400@ozcoso.org
SUMMARY:Falcons Basketball Practice
DESCRIPTION:For more information:  Coach Jason Tietz\njctietz@wi.rr.com\n262-389-6890 \nor Coach Stu Natale \n262-689-4060
URL:https://ozcoso.org/event/falcons-basketball-practice/2026-01-13/
LOCATION:Gateway Sports Academy\, 555 Market St.\, Saukville\, WI\, 53080\, United States
END:VEVENT
BEGIN:VEVENT
DTSTART;TZID=America/Chicago:20260106T184500
DTEND;TZID=America/Chicago:20260106T200000
DTSTAMP:20260419T064045
CREATED:20260105T145049Z
LAST-MODIFIED:20260105T145507Z
UID:10002175-1767725100-1767729600@ozcoso.org
SUMMARY:Participation Only Basketball
DESCRIPTION:Coach Zeki \ncoachzeki63@gmail.com
URL:https://ozcoso.org/event/participation-only-basketball/2026-01-06/
LOCATION:Gateway Sports Academy\, 555 Market St.\, Saukville\, WI\, 53080\, United States
END:VEVENT
BEGIN:VEVENT
DTSTART;TZID=America/Chicago:20260106T183000
DTEND;TZID=America/Chicago:20260106T200000
DTSTAMP:20260419T064045
CREATED:20251111T204314Z
LAST-MODIFIED:20260309T003002Z
UID:10002558-1767724200-1767729600@ozcoso.org
SUMMARY:Falcons Basketball Practice
DESCRIPTION:For more information:  Coach Jason Tietz\njctietz@wi.rr.com\n262-389-6890 \nor Coach Stu Natale \n262-689-4060
URL:https://ozcoso.org/event/falcons-basketball-practice/2026-01-06/
LOCATION:Gateway Sports Academy\, 555 Market St.\, Saukville\, WI\, 53080\, United States
END:VEVENT
BEGIN:VEVENT
DTSTART;TZID=America/Chicago:20251230T183000
DTEND;TZID=America/Chicago:20251230T200000
DTSTAMP:20260419T064045
CREATED:20251111T204314Z
LAST-MODIFIED:20260309T003002Z
UID:10002557-1767119400-1767124800@ozcoso.org
SUMMARY:Falcons Basketball Practice
DESCRIPTION:For more information:  Coach Jason Tietz\njctietz@wi.rr.com\n262-389-6890 \nor Coach Stu Natale \n262-689-4060
URL:https://ozcoso.org/event/falcons-basketball-practice/2025-12-30/
LOCATION:Gateway Sports Academy\, 555 Market St.\, Saukville\, WI\, 53080\, United States
END:VEVENT
BEGIN:VEVENT
DTSTART;TZID=America/Chicago:20251223T183000
DTEND;TZID=America/Chicago:20251223T200000
DTSTAMP:20260419T064045
CREATED:20251111T204314Z
LAST-MODIFIED:20260309T003002Z
UID:10002556-1766514600-1766520000@ozcoso.org
SUMMARY:Falcons Basketball Practice
DESCRIPTION:For more information:  Coach Jason Tietz\njctietz@wi.rr.com\n262-389-6890 \nor Coach Stu Natale \n262-689-4060
URL:https://ozcoso.org/event/falcons-basketball-practice/2025-12-23/
LOCATION:Gateway Sports Academy\, 555 Market St.\, Saukville\, WI\, 53080\, United States
END:VEVENT
BEGIN:VEVENT
DTSTART;TZID=America/Chicago:20251216T183000
DTEND;TZID=America/Chicago:20251216T200000
DTSTAMP:20260419T064045
CREATED:20251111T204314Z
LAST-MODIFIED:20260309T003002Z
UID:10002555-1765909800-1765915200@ozcoso.org
SUMMARY:Falcons Basketball Practice
DESCRIPTION:For more information:  Coach Jason Tietz\njctietz@wi.rr.com\n262-389-6890 \nor Coach Stu Natale \n262-689-4060
URL:https://ozcoso.org/event/falcons-basketball-practice/2025-12-16/
LOCATION:Gateway Sports Academy\, 555 Market St.\, Saukville\, WI\, 53080\, United States
END:VEVENT
BEGIN:VEVENT
DTSTART;TZID=America/Chicago:20251209T183000
DTEND;TZID=America/Chicago:20251209T200000
DTSTAMP:20260419T064045
CREATED:20251111T204314Z
LAST-MODIFIED:20260309T003002Z
UID:10002554-1765305000-1765310400@ozcoso.org
SUMMARY:Falcons Basketball Practice
DESCRIPTION:For more information:  Coach Jason Tietz\njctietz@wi.rr.com\n262-389-6890 \nor Coach Stu Natale \n262-689-4060
URL:https://ozcoso.org/event/falcons-basketball-practice/2025-12-09/
LOCATION:Gateway Sports Academy\, 555 Market St.\, Saukville\, WI\, 53080\, United States
END:VEVENT
BEGIN:VEVENT
DTSTART;TZID=America/Chicago:20251202T183000
DTEND;TZID=America/Chicago:20251202T200000
DTSTAMP:20260419T064045
CREATED:20251111T204314Z
LAST-MODIFIED:20260309T003002Z
UID:10002155-1764700200-1764705600@ozcoso.org
SUMMARY:Falcons Basketball Practice
DESCRIPTION:For more information:  Coach Jason Tietz\njctietz@wi.rr.com\n262-389-6890 \nor Coach Stu Natale \n262-689-4060
URL:https://ozcoso.org/event/falcons-basketball-practice/2025-12-02/
LOCATION:Gateway Sports Academy\, 555 Market St.\, Saukville\, WI\, 53080\, United States
END:VEVENT
END:VCALENDAR