BEGIN:VCALENDAR
VERSION:2.0
PRODID:-//Special Olympics of Wisconsin – Ozaukee County - ECPv6.15.12.2//NONSGML v1.0//EN
CALSCALE:GREGORIAN
METHOD:PUBLISH
X-WR-CALNAME:Special Olympics of Wisconsin – Ozaukee County
X-ORIGINAL-URL:https://ozcoso.org
X-WR-CALDESC:Events for Special Olympics of Wisconsin – Ozaukee County
REFRESH-INTERVAL;VALUE=DURATION:PT1H
X-Robots-Tag:noindex
X-PUBLISHED-TTL:PT1H
BEGIN:VTIMEZONE
TZID:America/Chicago
BEGIN:DAYLIGHT
TZOFFSETFROM:-0600
TZOFFSETTO:-0500
TZNAME:CDT
DTSTART:20230312T080000
END:DAYLIGHT
BEGIN:STANDARD
TZOFFSETFROM:-0500
TZOFFSETTO:-0600
TZNAME:CST
DTSTART:20231105T070000
END:STANDARD
BEGIN:DAYLIGHT
TZOFFSETFROM:-0600
TZOFFSETTO:-0500
TZNAME:CDT
DTSTART:20240310T080000
END:DAYLIGHT
BEGIN:STANDARD
TZOFFSETFROM:-0500
TZOFFSETTO:-0600
TZNAME:CST
DTSTART:20241103T070000
END:STANDARD
BEGIN:DAYLIGHT
TZOFFSETFROM:-0600
TZOFFSETTO:-0500
TZNAME:CDT
DTSTART:20250309T080000
END:DAYLIGHT
BEGIN:STANDARD
TZOFFSETFROM:-0500
TZOFFSETTO:-0600
TZNAME:CST
DTSTART:20251102T070000
END:STANDARD
END:VTIMEZONE
BEGIN:VEVENT
DTSTART;TZID=America/Chicago:20240206T183000
DTEND;TZID=America/Chicago:20240206T200000
DTSTAMP:20260424T001609
CREATED:20240108T184902Z
LAST-MODIFIED:20240108T184902Z
UID:10000665-1707244200-1707249600@ozcoso.org
SUMMARY:Eagles and Hawks Practice
DESCRIPTION:
URL:https://ozcoso.org/event/eagles-and-hawks-practice/2024-02-06/
LOCATION:Our Savior\, 1332 Arrowhead Rd.\, Grafton\, WI\, 53024\, United States
CATEGORIES:Basketball
ORGANIZER;CN="Deb Klotz":MAILTO:dscott1123@hotmail.com&gt;
END:VEVENT
BEGIN:VEVENT
DTSTART;TZID=America/Chicago:20240206T184500
DTEND;TZID=America/Chicago:20240206T201500
DTSTAMP:20260424T001609
CREATED:20240108T185425Z
LAST-MODIFIED:20240108T185425Z
UID:10000679-1707245100-1707250500@ozcoso.org
SUMMARY:Condors and Owls Practice
DESCRIPTION:
URL:https://ozcoso.org/event/condors-and-owls-practice/2024-02-06/
LOCATION:Cedarburg Cummunity Gym/John Gym\, W62 N546 Washington Avenue\, Cedarburg\, WI\, 53012\, United States
CATEGORIES:Basketball
ORGANIZER;CN="Dan Murphy":MAILTO:danielmmurphy@gmail.com
END:VEVENT
BEGIN:VEVENT
DTSTART;TZID=America/Chicago:20240213T183000
DTEND;TZID=America/Chicago:20240213T200000
DTSTAMP:20260424T001609
CREATED:20240108T184902Z
LAST-MODIFIED:20240108T184902Z
UID:10000666-1707849000-1707854400@ozcoso.org
SUMMARY:Eagles and Hawks Practice
DESCRIPTION:
URL:https://ozcoso.org/event/eagles-and-hawks-practice/2024-02-13/
LOCATION:Our Savior\, 1332 Arrowhead Rd.\, Grafton\, WI\, 53024\, United States
CATEGORIES:Basketball
ORGANIZER;CN="Deb Klotz":MAILTO:dscott1123@hotmail.com&gt;
END:VEVENT
BEGIN:VEVENT
DTSTART;TZID=America/Chicago:20240213T184500
DTEND;TZID=America/Chicago:20240213T201500
DTSTAMP:20260424T001609
CREATED:20240108T185425Z
LAST-MODIFIED:20240108T185425Z
UID:10000680-1707849900-1707855300@ozcoso.org
SUMMARY:Condors and Owls Practice
DESCRIPTION:
URL:https://ozcoso.org/event/condors-and-owls-practice/2024-02-13/
LOCATION:Cedarburg Cummunity Gym/John Gym\, W62 N546 Washington Avenue\, Cedarburg\, WI\, 53012\, United States
CATEGORIES:Basketball
ORGANIZER;CN="Dan Murphy":MAILTO:danielmmurphy@gmail.com
END:VEVENT
BEGIN:VEVENT
DTSTART;TZID=America/Chicago:20240220T183000
DTEND;TZID=America/Chicago:20240220T200000
DTSTAMP:20260424T001609
CREATED:20240108T184902Z
LAST-MODIFIED:20240108T184902Z
UID:10000667-1708453800-1708459200@ozcoso.org
SUMMARY:Eagles and Hawks Practice
DESCRIPTION:
URL:https://ozcoso.org/event/eagles-and-hawks-practice/2024-02-20/
LOCATION:Our Savior\, 1332 Arrowhead Rd.\, Grafton\, WI\, 53024\, United States
CATEGORIES:Basketball
ORGANIZER;CN="Deb Klotz":MAILTO:dscott1123@hotmail.com&gt;
END:VEVENT
BEGIN:VEVENT
DTSTART;TZID=America/Chicago:20240220T184500
DTEND;TZID=America/Chicago:20240220T201500
DTSTAMP:20260424T001609
CREATED:20240108T185425Z
LAST-MODIFIED:20240108T185425Z
UID:10000681-1708454700-1708460100@ozcoso.org
SUMMARY:Condors and Owls Practice
DESCRIPTION:
URL:https://ozcoso.org/event/condors-and-owls-practice/2024-02-20/
LOCATION:Cedarburg Cummunity Gym/John Gym\, W62 N546 Washington Avenue\, Cedarburg\, WI\, 53012\, United States
CATEGORIES:Basketball
ORGANIZER;CN="Dan Murphy":MAILTO:danielmmurphy@gmail.com
END:VEVENT
BEGIN:VEVENT
DTSTART;TZID=America/Chicago:20240227T183000
DTEND;TZID=America/Chicago:20240227T200000
DTSTAMP:20260424T001609
CREATED:20240108T184902Z
LAST-MODIFIED:20240108T184902Z
UID:10000668-1709058600-1709064000@ozcoso.org
SUMMARY:Eagles and Hawks Practice
DESCRIPTION:
URL:https://ozcoso.org/event/eagles-and-hawks-practice/2024-02-27/
LOCATION:Our Savior\, 1332 Arrowhead Rd.\, Grafton\, WI\, 53024\, United States
CATEGORIES:Basketball
ORGANIZER;CN="Deb Klotz":MAILTO:dscott1123@hotmail.com&gt;
END:VEVENT
BEGIN:VEVENT
DTSTART;TZID=America/Chicago:20240227T184500
DTEND;TZID=America/Chicago:20240227T201500
DTSTAMP:20260424T001609
CREATED:20240108T185425Z
LAST-MODIFIED:20240108T185425Z
UID:10000682-1709059500-1709064900@ozcoso.org
SUMMARY:Condors and Owls Practice
DESCRIPTION:
URL:https://ozcoso.org/event/condors-and-owls-practice/2024-02-27/
LOCATION:Cedarburg Cummunity Gym/John Gym\, W62 N546 Washington Avenue\, Cedarburg\, WI\, 53012\, United States
CATEGORIES:Basketball
ORGANIZER;CN="Dan Murphy":MAILTO:danielmmurphy@gmail.com
END:VEVENT
END:VCALENDAR